Workbook

Sheet Budget Rollup
A1: Groom Creek Fire District
A2: Budget - Cash Basis
A3: 46203 | K3: Add 5% to prior year | M3: FDAT | N3: =P3+(P3*R3) -> 142450.35 | P3: 135667 | Q3: =+N3-P3 -> 6783.35 | R3: 0.05
M4: RE Tax | N4: =P4+(P4*R4) -> 806797.95 | P4: 768379 | Q4: =+N4-P4 -> 38418.95 | R4: 0.05
P5: 2025
B6: Jul | C6: Aug | D6: Sept | E6: Oct | F6: Nov | G6: Dec | H6: Jan | I6: Feb | J6: Mar | K6: Apr | L6: May | M6: Jun | N6: Total | P6: Budget | Q6: Var $$ | R6: VAR %
A7: Real Property Tax | B7: =+'Rev Distribution'!C4*'Budget Rollup'!$N$4 -> 10345.767 | C7: =+'Rev Distribution'!C5*'Budget Rollup'!$N$4 -> 775.33302 | D7: =+'Rev Distribution'!C6*'Budget Rollup'!$N$4 -> 13501.718 | E7: =+'Rev Distribution'!C7*'Budget Rollup'!$N$4 -> 334851.94 | F7: =+'Rev Distribution'!C8*'Budget Rollup'!$N$4 -> 75341.854 | G7: =+'Rev Distribution'!C9*'Budget Rollup'!$N$4 -> 84497.977 | H7: =+'Rev Distribution'!C10*'Budget Rollup'!$N$4 -> 39376.793 | I7: =+'Rev Distribution'!C11*'Budget Rollup'!$N$4 -> 14663.386 | J7: =+'Rev Distribution'!C12*'Budget Rollup'!$N$4 -> 16572.41 | K7: =+'Rev Distribution'!C13*'Budget Rollup'!$N$4 -> 182052.72 | L7: =+'Rev Distribution'!C14*'Budget Rollup'!$N$4 -> 21798.581 | M7: =+'Rev Distribution'!C15*'Budget Rollup'!$N$4 -> 13019.467 | N7: =SUM(B7:M7) -> 806797.95 | P7: 768379 | Q7: =+N7-P7 -> 38418.95 | R7: =+Q7/P7 -> 0.05
A8: Fire District Assistance Tax | B8: =+'Rev Distribution'!E4*'Budget Rollup'!$N$3 -> 675.96767 | C8: =+'Rev Distribution'!E5*'Budget Rollup'!$N$3 -> 201.4789 | D8: =+'Rev Distribution'!E6*'Budget Rollup'!$N$3 -> 1776.3524 | E8: =+'Rev Distribution'!E7*'Budget Rollup'!$N$3 -> 56130.352 | F8: =+'Rev Distribution'!E8*'Budget Rollup'!$N$3 -> 19607.831 | G8: =+'Rev Distribution'!E9*'Budget Rollup'!$N$3 -> 12583.49 | H8: =+'Rev Distribution'!E10*'Budget Rollup'!$N$3 -> 5277.7934 | I8: =+'Rev Distribution'!E11*'Budget Rollup'!$N$3 -> 2114.9323 | J8: =+'Rev Distribution'!E12*'Budget Rollup'!$N$3 -> 3189.0891 | K8: =+'Rev Distribution'!E13*'Budget Rollup'!$N$3 -> 33360.852 | L8: =+'Rev Distribution'!E14*'Budget Rollup'!$N$3 -> 6233.924 | M8: =+'Rev Distribution'!E15*'Budget Rollup'!$N$3 -> 1298.2871 | N8: =SUM(B8:M8) -> 142450.35 | P8: 135667 | Q8: =+N8-P8 -> 6783.35 | R8: =+Q8/P8 -> 0.05
A9: Wildland Fire | F9: 20000 | N9: =SUM(B9:M9) -> 20000 | P9: 35000 | Q9: =+N9-P9 -> -15000 | R9: =+Q9/P9 -> -0.42857143
A10: Prop 207 | G10: 9226 | M10: 12000 | N10: =SUM(B10:M10) -> 21226 | P10: 21226 | Q10: =+N10-P10 -> 0 | R10: =+Q10/P10 -> 0
A11: Total Revenue | B11: =SUM(B7:B10) -> 11021.734 | C11: =SUM(C7:C10) -> 976.81192 | D11: =SUM(D7:D10) -> 15278.071 | E11: =SUM(E7:E10) -> 390982.29 | F11: =SUM(F7:F10) -> 114949.68 | G11: =SUM(G7:G10) -> 106307.47 | H11: =SUM(H7:H10) -> 44654.586 | I11: =SUM(I7:I10) -> 16778.318 | ... N11: =SUM(N7:N10) -> 990474.3 | P11: =SUM(P7:P10) -> 960272 | Q11: =+N11-P11 -> 30202.3 | R11: =+Q11/P11 -> 0.031451818
A13: Payroll | B13: =+Payroll!D30 -> 49621.361 | C13: =+Payroll!E30 -> 49621.361 | D13: =+Payroll!F30 -> 64621.361 | E13: =+Payroll!G30 -> 49621.361 | F13: =+Payroll!H30 -> 67188.81 | G13: =+Payroll!I30 -> 49621.361 | H13: =+Payroll!J30 -> 49621.361 | I13: =+Payroll!K30 -> 49621.361 | ... M13: =+Payroll!O30 -> 49621.361 | N13: =SUM(B13:M13) -> 645653.33 | P13: 615828 | Q13: =+N13-P13 -> 29825.332 | R13: =+Q13/P13 -> 0.048431269
A14: PSPRS | B14: =+PSPRS!D21 -> 2581.656 | C14: =+PSPRS!E21 -> 2581.656 | D14: =+PSPRS!F21 -> 2581.656 | E14: =+PSPRS!G21 -> 2581.656 | F14: =+PSPRS!H21 -> 3808.476 | G14: =+PSPRS!I21 -> 2581.656 | H14: =+PSPRS!J21 -> 2581.656 | I14: =+PSPRS!K21 -> 2581.656 | ... M14: =+PSPRS!O21 -> 2581.656 | N14: =SUM(B14:M14) -> 33433.512 | P14: 23471 | Q14: =+N14-P14 -> 9962.512 | R14: =+Q14/P14 -> 0.42446048
A15: Apparatus | B15: 1083 | C15: 1083 | D15: 1083 | E15: 1083 | F15: 1083 | G15: 1083 | H15: 1083 | I15: 1083 | J15: 1084 | K15: 1084 | L15: 1084 | M15: 1084 | N15: =SUM(B15:M15) -> 13000 | P15: 12000 | Q15: =+N15-P15 -> 1000 | R15: =+Q15/P15 -> 0.083333333
A16: Fuel | B16: 420 | C16: 420 | D16: 420 | E16: 420 | F16: 420 | G16: 420 | H16: 420 | I16: 420 | J16: 420 | K16: 420 | L16: 420 | M16: 420 | N16: =SUM(B16:M16) -> 5040 | P16: 4800 | Q16: =+N16-P16 -> 240 | R16: =+Q16/P16 -> 0.05
A17: Equipment | B17: 158.33333 | C17: 158.33333 | D17: 158.33333 | E17: 158.33333 | F17: 158.33333 | G17: 158.33333 | H17: 158.33333 | I17: 158.33333 | J17: 158.33333 | K17: 158.33333 | L17: 158.33333 | M17: 158.33333 | N17: =SUM(B17:M17) -> 1900 | P17: 1900 | Q17: =+N17-P17 -> 0 | R17: =+Q17/P17 -> 0
A18: Structure Ops | B18: 50 | C18: 50 | D18: 50 | E18: 50 | F18: 50 | G18: 50 | H18: 50 | I18: 50 | J18: 50 | K18: 50 | L18: 50 | M18: 50 | N18: =SUM(B18:M18) -> 600 | P18: 500 | Q18: =+N18-P18 -> 100 | R18: =+Q18/P18 -> 0.2
A19: EMS | B19: 125 | C19: 125 | D19: 125 | E19: 125 | F19: 125 | G19: 125 | H19: 125 | I19: 125 | J19: 125 | K19: 125 | L19: 125 | M19: 125 | N19: =SUM(B19:M19) -> 1500 | P19: 1500 | Q19: =+N19-P19 -> 0 | R19: =+Q19/P19 -> 0
A20: Personal Protective Equip | B20: 0 | C20: 0 | D20: 0 | E20: 0 | F20: 7500 | G20: 0 | H20: 0 | I20: 0 | J20: 0 | K20: 0 | L20: 0 | M20: 0 | N20: =SUM(B20:M20) -> 7500 | P20: 7500 | Q20: =+N20-P20 -> 0 | R20: =+Q20/P20 -> 0
A21: Comms | B21: =+Comm!B23 -> 865 | C21: =+Comm!C23 -> 865 | D21: =+Comm!D23 -> 865 | E21: =+Comm!E23 -> 865 | F21: =+Comm!F23 -> 865 | G21: =+Comm!G23 -> 865 | H21: =+Comm!H23 -> 1150 | I21: =+Comm!I23 -> 865 | ... M21: =+Comm!M23 -> 865 | N21: =SUM(B21:M21) -> 10665 | P21: 10665 | Q21: =+N21-P21 -> 0 | R21: =+Q21/P21 -> 0
A22: Training | B22: =+Training!B23 -> 250 | C22: =+Training!C23 -> 1050 | D22: =+Training!D23 -> 1050 | E22: =+Training!E23 -> 1050 | F22: =+Training!F23 -> 2050 | G22: =+Training!G23 -> 1050 | H22: =+Training!H23 -> 2400 | I22: =+Training!I23 -> 1050 | ... M22: =+Training!M23 -> 250 | N22: =SUM(B22:M22) -> 14700 | P22: 6525 | Q22: =+N22-P22 -> 8175 | R22: =+Q22/P22 -> 1.2528736
A23: Misc. Ops | B23: 108.33333 | C23: 108.33333 | D23: 108.33333 | E23: 108.33333 | F23: 108.33333 | G23: 108.33333 | H23: 108.33333 | I23: 108.33333 | J23: 108.33333 | K23: 108.33333 | L23: 108.33333 | M23: 108.33333 | N23: =SUM(B23:M23) -> 1300 | P23: 1300 | Q23: =+N23-P23 -> 0 | R23: =+Q23/P23 -> 0
A24: Dues and Subscriptions | B24: =+Dues!B23 -> 0 | C24: =+Dues!C23 -> 0 | D24: =+Dues!D23 -> 0 | E24: =+Dues!E23 -> 175 | F24: =+Dues!F23 -> 0 | G24: =+Dues!G23 -> 0 | H24: =+Dues!H23 -> 150 | I24: =+Dues!I23 -> 50 | ... M24: =+Dues!M23 -> 0 | N24: =SUM(B24:M24) -> 1260 | P24: 1260 | Q24: =+N24-P24 -> 0 | R24: =+Q24/P24 -> 0
A25: Office Supplies | B25: 100 | C25: 100 | D25: 100 | E25: 100 | F25: 100 | G25: 100 | H25: 100 | I25: 100 | J25: 100 | K25: 100 | L25: 100 | M25: 100 | N25: =SUM(B25:M25) -> 1200 | P25: 1000 | Q25: =+N25-P25 -> 200 | R25: =+Q25/P25 -> 0.2
A26: Utilities | B26: =+Utilities!B23 -> 949.66667 | C26: =+Utilities!C23 -> 949.66667 | D26: =+Utilities!D23 -> 949.66667 | E26: =+Utilities!E23 -> 949.66667 | F26: =+Utilities!F23 -> 949.66667 | G26: =+Utilities!G23 -> 949.66667 | H26: =+Utilities!H23 -> 949.66667 | I26: =+Utilities!I23 -> 949.66667 | ... M26: =+Utilities!M23 -> 949.66667 | N26: =SUM(B26:M26) -> 11396 | P26: 10896 | Q26: =+N26-P26 -> 500 | R26: =+Q26/P26 -> 0.045888399
A27: Propane | B27: =+Propane!B23 -> 500 | C27: =+Propane!C23 -> 0 | D27: =+Propane!D23 -> 0 | E27: =+Propane!E23 -> 0 | F27: =+Propane!F23 -> 500 | G27: =+Propane!G23 -> 800 | H27: =+Propane!H23 -> 1000 | I27: =+Propane!I23 -> 1500 | ... M27: =+Propane!M23 -> 0 | N27: =SUM(B27:M27) -> 5000 | P27: 3515 | Q27: =+N27-P27 -> 1485 | R27: =+Q27/P27 -> 0.42247511
A28: BCBS | B28: 6818 | C28: 6818 | D28: 6818 | E28: 6818 | F28: 6818 | G28: 6818 | H28: 6818 | I28: 6818 | J28: 6818 | K28: 6818 | L28: 6818 | M28: 6818 | N28: =SUM(B28:M28) -> 81816 | P28: 76344 | Q28: =+N28-P28 -> 5472 | R28: =+Q28/P28 -> 0.071675574
A29: Life, Vision,Dental, Cancer | B29: 500 | C29: 500 | D29: 500 | E29: 500 | F29: 500 | G29: 500 | H29: 500 | I29: 500 | J29: 500 | K29: 500 | L29: 500 | M29: 500 | N29: =SUM(B29:M29) -> 6000 | P29: 5307 | Q29: =+N29-P29 -> 693 | R29: =+Q29/P29 -> 0.13058225
A30: Annual FF Physicals | I30: 2189 | N30: =SUM(B30:M30) -> 2189 | P30: 2189 | Q30: =+N30-P30 -> 0 | R30: =+Q30/P30 -> 0
A31: Workers Comp | B31: 1748 | C31: 1748 | D31: 1748 | E31: 1748 | F31: 1748 | G31: 1748 | H31: 1748 | I31: 1748 | J31: 1748 | K31: 1748 | L31: 1748 | M31: 1748 | N31: =SUM(B31:M31) -> 20976 | P31: 41568 | Q31: =+N31-P31 -> -20592 | R31: =+Q31/P31 -> -0.49538106
A32: Health Savings Account | F32: =2200+15400 -> 17600 | N32: =SUM(B32:M32) -> 17600 | P32: 17600 | Q32: =+N32-P32 -> 0 | R32: =+Q32/P32 -> 0
A33: Facilities | B33: 500 | C33: 500 | D33: 500 | E33: 500 | F33: 500 | G33: 500 | H33: 500 | I33: 500 | J33: 500 | K33: 500 | L33: 500 | M33: 500 | N33: =SUM(B33:M33) -> 6000 | P33: 6335 | Q33: =+N33-P33 -> -335 | R33: =+Q33/P33 -> -0.052880821
A34: Accounting | B34: 725 | C34: 725 | D34: 725 | E34: 725 | F34: 725 | G34: 725 | H34: 725 | I34: 725 | J34: 725 | K34: 725 | L34: 725 | M34: 725 | N34: =SUM(B34:M34) -> 8700 | P34: 8200 | Q34: =+N34-P34 -> 500 | R34: =+Q34/P34 -> 0.06097561
A35: Audit | H35: 7800 | N35: =SUM(B35:M35) -> 7800 | P35: 7800 | Q35: =+N35-P35 -> 0 | R35: =+Q35/P35 -> 0
A36: Liability Insurance | B36: 3835 | D36: 3835 | G36: 3835 | K36: 3835 | N36: =SUM(B36:M36) -> 15340 | P36: 13338 | Q36: =+N36-P36 -> 2002 | R36: =+Q36/P36 -> 0.15009747
A37: Uniforms | B37: 4400 | N37: =SUM(B37:M37) -> 4400 | P37: 4400 | Q37: =+N37-P37 -> 0 | R37: =+Q37/P37 -> 0
A38: Community Relations | B38: 50 | C38: 100 | D38: 100 | E38: 600 | F38: 50 | G38: 600 | H38: 50 | I38: 100 | J38: 50 | K38: 100 | L38: 600 | M38: 100 | N38: =SUM(B38:M38) -> 2500 | P38: 2104 | Q38: =+N38-P38 -> 396 | R38: =+Q38/P38 -> 0.18821293
A39: New Engine Payment | B39: 0 | C39: 0 | D39: 0 | E39: 0 | F39: 6000 | G39: 6000 | H39: 6000 | I39: 6000 | J39: 6000 | K39: 6000 | L39: 6000 | M39: 6000 | N39: =SUM(B39:M39) -> 48000 | P39: 72427 | Q39: =+N39-P39 -> -24427 | R39: =+Q39/P39 -> -0.33726373
A40: Capital Improvement Fund | B40: 1250 | C40: 1251 | D40: 1250 | E40: 1251 | F40: 1250 | G40: 1251 | H40: 1250 | I40: 1251 | J40: 1250 | K40: 1251 | L40: 1250 | M40: 1250 | N40: =SUM(B40:M40) -> 15005 | P40: 0 | Q40: =+N40-P40 -> 15005
A41: Total Expenses | B41: =SUM(B13:B40) -> 76638.35 | C41: =SUM(C13:C40) -> 68754.35 | D41: =SUM(D13:D40) -> 87588.35 | E41: =SUM(E13:E40) -> 69429.35 | F41: =SUM(F13:F40) -> 120097.62 | G41: =SUM(G13:G40) -> 79889.35 | H41: =SUM(H13:H40) -> 85288.35 | I41: =SUM(I13:I40) -> 78493.35 | ... N41: =SUM(N13:N40) -> 990473.84 | P41: =SUM(P13:P40) -> 960272
...

Sheet Rev Distribution
A2: 2023 RE Tax | D2: FDAT | F2: 2022 RE Tax | I2: FDAT
P3: =+N3-N11 -> 0
A4: July | B4: 7766 | C4: =+B4/$B$17 -> 0.012823244 | D4: 567 | E4: =+D4/$D$17 -> 0.0047452861 | G4: 3897 | H4: =+G4/$G$17 -> 0.0072128465 | I4: 4061 | J4: =+I4/$D$17 -> 0.033986961 | P4: =+N10-N4 -> 0
A5: Aug | B5: 582 | C5: =+B5/$B$17 -> 0.00096100023 | D5: 169 | E5: =+D5/$D$17 -> 0.0014143798 | G5: 0 | H5: =+G5/$G$17 -> 0 | I5: 920 | J5: =+I5/$D$17 -> 0.0076995824
A6: Sept | B6: 10135 | C6: =+B6/$B$17 -> 0.016734944 | D6: 1490 | E6: =+D6/$D$17 -> 0.012469976 | G6: 6315 | H6: =+G6/$G$17 -> 0.011688254 | I6: 1318 | J6: =+I6/$D$17 -> 0.011030489
A7: Oct | B7: 251355 | C7: =+B7/$B$17 -> 0.41503817 | D7: 47082 | E7: =+D7/$D$17 -> 0.3940345 | G7: 253713 | H7: =+G7/$G$17 -> 0.46959018 | I7: 45133 | J7: =+I7/$D$17 -> 0.3777231
A8: Nov | B8: 56555 | C8: =+B8/$B$17 -> 0.093383794 | D8: 16447 | E8: =+D8/$D$17 -> 0.13764677 | G8: 47320 | H8: =+G8/$G$17 -> 0.087583243 | I8: 14747 | J8: =+I8/$D$17 -> 0.12341928
A9: Dec | B9: 63428 | C9: =+B9/$B$17 -> 0.10473251 | D9: 10555 | E9: =+D9/$D$17 -> 0.08833597 | G9: 49319 | H9: =+G9/$G$17 -> 0.091283135 | I9: 9887 | J9: =+I9/$D$17 -> 0.082745403
A10: Jan | B10: 29558 | C10: =+B10/$B$17 -> 0.048806263 | D10: 4427 | E10: =+D10/$D$17 -> 0.037050056 | G10: 21227 | H10: =+G10/$G$17 -> 0.039288451 | I10: 4317 | J10: =+I10/$D$17 -> 0.036129453
A11: Feb | B11: 11007 | C11: =+B11/$B$17 -> 0.018174793 | D11: 1774 | E11: =+D11/$D$17 -> 0.014846803 | G11: 10485 | H11: =+G11/$G$17 -> 0.019406388 | I11: 1633 | J11: =+I11/$D$17 -> 0.013666759
A12: Mar | B12: 12440 | C12: =+B12/$B$17 -> 0.020540967 | D12: 2675 | E12: =+D12/$D$17 -> 0.022387373 | G12: 13326 | H12: =+G12/$G$17 -> 0.024664715 | I12: 2331 | J12: =+I12/$D$17 -> 0.019508398
A13: Apr | B13: 136657 | C13: =+B13/$B$17 -> 0.22564847 | D13: 27983 | E13: =+D13/$D$17 -> 0.23419284 | G13: 119517 | H13: =+G13/$G$17 -> 0.22121062 | I13: 25260 | J13: =+I13/$D$17 -> 0.21140375
A14: May | B14: 16363 | C14: =+B14/$B$17 -> 0.027018637 | D14: 5229 | E14: =+D14/$D$17 -> 0.043762083 | G14: 15167 | H14: =+G14/$G$17 -> 0.028072169 | I14: =3000-607 -> 2393 | J14: =+I14/$D$17 -> 0.020027283
A15: June | B15: 9773 | C15: =+B15/$B$17 -> 0.016137208 | D15: 1089 | E15: =+D15/$D$17 -> 0.0091139622 | G15: 0 | H15: =+G15/$G$17 -> 0 | I15: 0 | J15: =+I15/$D$17 -> 0
B17: =SUM(B4:B16) -> 605619 | C17: =SUM(C4:C16) -> 1 | D17: =SUM(D4:D16) -> 119487 | E17: =SUM(E4:E16) -> 1 | F17: =SUM(F4:F16) -> 0 | G17: =SUM(G4:G16) -> 540286 | H17: =SUM(H4:H16) -> 1 | I17: =SUM(I4:I16) -> 112000 | J17: =SUM(J4:J16) -> 0.93734046
A22: Capped at 5% increase for existing property so if property goes up 10% we only get 5%, new builds can increase the percentage
A23: FDAT federal subsidy for people who do not pay into the tax base
C33: =SUM(C6:C32) -> 1.9862158

Sheet Payroll
A1: Groom Creek Fire District
A2: Budget - Cash Basis
A3: 46203
A5: Payroll: | B5: Rate | C5: OT | D5: Jul | E5: Aug | F5: Sept | G5: Oct | H5: Nov | I5: Dec | J5: Jan | K5: Feb | L5: Mar | M5: Apr | N5: May | O5: Jun | P5: Total
A6: Stewart Cox | B6: 17 | C6: =+B6*1.5 -> 25.5 | D6: =((106*$B$6)+6*$C$6)*2 -> 3910 | E6: =((106*$B$6)+6*$C$6)*2 -> 3910 | F6: =((106*$B$6)+6*$C$6)*2 -> 3910 | G6: =((106*$B$6)+6*$C$6)*2 -> 3910 | H6: =((106*$B$6)+6*$C$6)*3 -> 5865 | I6: =((106*$B$6)+6*$C$6)*2 -> 3910 | J6: =((106*$B$6)+6*$C$6)*2 -> 3910 | K6: =((106*$B$6)+6*$C$6)*2 -> 3910 | L6: =((106*$B$6)+6*$C$6)*2 -> 3910 | M6: =((106*$B$6)+6*$C$6)*2 -> 3910 | N6: =((106*$B$6)+6*$C$6)*3 -> 5865 | O6: =((106*$B$6)+6*$C$6)*2 -> 3910 | P6: =SUM(D6:O6) -> 50830
A7: Stewart Cox | D7: =8*$C6 -> 204 | E7: =8*$C6 -> 204 | F7: =8*$C6 -> 204 | G7: =8*$C6 -> 204 | H7: =8*$C6 -> 204 | I7: =8*$C6 -> 204 | J7: =8*$C6 -> 204 | K7: =8*$C6 -> 204 | ... O7: =8*$C6 -> 204 | P7: =SUM(D7:O7) -> 2448
A8: Mathew Gordon | B8: 17 | C8: =+B8*1.5 -> 25.5 | D8: =((106*$B$8)+6*$C$8)*2 -> 3910 | E8: =((106*$B$8)+6*$C$8)*2 -> 3910 | F8: =((106*$B$8)+6*$C$8)*2 -> 3910 | G8: =((106*$B$8)+6*$C$8)*2 -> 3910 | H8: =((106*$B$8)+6*$C$8)*3 -> 5865 | I8: =((106*$B$8)+6*$C$8)*2 -> 3910 | J8: =((106*$B$8)+6*$C$8)*2 -> 3910 | K8: =((106*$B$8)+6*$C$8)*2 -> 3910 | L8: =((106*$B$8)+6*$C$8)*2 -> 3910 | M8: =((106*$B$8)+6*$C$8)*2 -> 3910 | N8: =((106*$B$8)+6*$C$8)*3 -> 5865 | O8: =((106*$B$8)+6*$C$8)*2 -> 3910 | P8: =SUM(D8:O8) -> 50830
A9: Mathew Gordon - Holiday | D9: =8*$C8 -> 204 | E9: =8*$C8 -> 204 | F9: =8*$C8 -> 204 | G9: =8*$C8 -> 204 | H9: =8*$C8 -> 204 | I9: =8*$C8 -> 204 | J9: =8*$C8 -> 204 | K9: =8*$C8 -> 204 | ... O9: =8*$C8 -> 204 | P9: =SUM(D9:O9) -> 2448
A10: Robert Tillman | B10: 23 | C10: =+B10*1.5 -> 34.5 | D10: =((106*$B$10)+6*$C$10)*2 -> 5290 | E10: =((106*$B$10)+6*$C$10)*2 -> 5290 | F10: =((106*$B$10)+6*$C$10)*2 -> 5290 | G10: =((106*$B$10)+6*$C$10)*2 -> 5290 | H10: =((106*$B$10)+6*$C$10)*3 -> 7935 | I10: =((106*$B$10)+6*$C$10)*2 -> 5290 | J10: =((106*$B$10)+6*$C$10)*2 -> 5290 | K10: =((106*$B$10)+6*$C$10)*2 -> 5290 | L10: =((106*$B$10)+6*$C$10)*2 -> 5290 | M10: =((106*$B$10)+6*$C$10)*2 -> 5290 | N10: =((106*$B$10)+6*$C$10)*3 -> 7935 | O10: =((106*$B$10)+6*$C$10)*2 -> 5290 | P10: =SUM(D10:O10) -> 68770
A11: Robert Tillman - Holiday | D11: =8*$C10 -> 276 | E11: =8*$C10 -> 276 | F11: =8*$C10 -> 276 | G11: =8*$C10 -> 276 | H11: =8*$C10 -> 276 | I11: =8*$C10 -> 276 | J11: =8*$C10 -> 276 | K11: =8*$C10 -> 276 | ... O11: =8*$C10 -> 276 | P11: =SUM(D11:O11) -> 3312
A12: Max Fitzmorize | B12: 23 | C12: =+B12*1.5 -> 34.5 | D12: =((106*$B$12)+6*$C$12)*2 -> 5290 | E12: =((106*$B$12)+6*$C$12)*2 -> 5290 | F12: =((106*$B$12)+6*$C$12)*2 -> 5290 | G12: =((106*$B$12)+6*$C$12)*2 -> 5290 | H12: =((106*$B$12)+6*$C$12)*3 -> 7935 | I12: =((106*$B$12)+6*$C$12)*2 -> 5290 | J12: =((106*$B$12)+6*$C$12)*2 -> 5290 | K12: =((106*$B$12)+6*$C$12)*2 -> 5290 | L12: =((106*$B$12)+6*$C$12)*2 -> 5290 | M12: =((106*$B$12)+6*$C$12)*2 -> 5290 | N12: =((106*$B$12)+6*$C$12)*3 -> 7935 | O12: =((106*$B$12)+6*$C$12)*2 -> 5290 | P12: =SUM(D12:O12) -> 68770
A13: Max Fitzmorize- Holiday | D13: =8*$C12 -> 276 | E13: =8*$C12 -> 276 | F13: =8*$C12 -> 276 | G13: =8*$C12 -> 276 | H13: =8*$C12 -> 276 | I13: =8*$C12 -> 276 | J13: =8*$C12 -> 276 | K13: =8*$C12 -> 276 | ... O13: =8*$C12 -> 276 | P13: =SUM(D13:O13) -> 3312
A14: Russell Vaughn | B14: 17 | C14: =+B14*1.5 -> 25.5 | D14: =((106*$B$14)+6*$C$14)*2 -> 3910 | E14: =((106*$B$14)+6*$C$14)*2 -> 3910 | F14: =((106*$B$14)+6*$C$14)*2 -> 3910 | G14: =((106*$B$14)+6*$C$14)*2 -> 3910 | H14: =((106*$B$14)+6*$C$14)*3 -> 5865 | I14: =((106*$B$14)+6*$C$14)*2 -> 3910 | J14: =((106*$B$14)+6*$C$14)*2 -> 3910 | K14: =((106*$B$14)+6*$C$14)*2 -> 3910 | L14: =((106*$B$14)+6*$C$14)*2 -> 3910 | M14: =((106*$B$14)+6*$C$14)*2 -> 3910 | N14: =((106*$B$14)+6*$C$14)*3 -> 5865 | O14: =((106*$B$14)+6*$C$14)*2 -> 3910 | P14: =SUM(D14:O14) -> 50830
A15: Russell Vaughn-Holiday | D15: =8*$C14 -> 204 | E15: =8*$C14 -> 204 | F15: =8*$C14 -> 204 | G15: =8*$C14 -> 204 | H15: =8*$C14 -> 204 | I15: =8*$C14 -> 204 | J15: =8*$C14 -> 204 | K15: =8*$C14 -> 204 | ... O15: =8*$C14 -> 204 | P15: =SUM(D15:O15) -> 2448
A16: Gabby Mendez | B16: 23 | C16: =+B16*1.5 -> 34.5 | D16: =((106*$B$16)+6*$C$16)*2 -> 5290 | E16: =((106*$B$16)+6*$C$16)*2 -> 5290 | F16: =((106*$B$16)+6*$C$16)*2 -> 5290 | G16: =((106*$B$16)+6*$C$16)*2 -> 5290 | H16: =((106*$B$16)+6*$C$16)*3 -> 7935 | I16: =((106*$B$16)+6*$C$16)*2 -> 5290 | J16: =((106*$B$16)+6*$C$16)*2 -> 5290 | K16: =((106*$B$16)+6*$C$16)*2 -> 5290 | L16: =((106*$B$16)+6*$C$16)*2 -> 5290 | M16: =((106*$B$16)+6*$C$16)*2 -> 5290 | N16: =((106*$B$16)+6*$C$16)*3 -> 7935 | O16: =((106*$B$16)+6*$C$16)*2 -> 5290 | P16: =SUM(D16:O16) -> 68770
A17: Gabby Mendez-Holiday | D17: =8*$C16 -> 276 | E17: =8*$C16 -> 276 | F17: =8*$C16 -> 276 | G17: =8*$C16 -> 276 | H17: =8*$C16 -> 276 | I17: =8*$C16 -> 276 | J17: =8*$C16 -> 276 | K17: =8*$C16 -> 276 | ... O17: =8*$C16 -> 276 | P17: =SUM(D17:O17) -> 3312
A18: Chief Salary | D18: 7837 | E18: 7837 | F18: 7837 | G18: 7837 | H18: 7837 | I18: 7837 | J18: 7837 | K18: 7837 | L18: 7837 | M18: 7837 | N18: 7837 | O18: 7837 | P18: =SUM(D18:O18) -> 94044
A19: Assistant Chief - Nate Hollowell | D19: =(65000)/26*2 -> 5000 | E19: =(65000)/26*2 -> 5000 | F19: =(65000)/26*2 -> 5000 | G19: =(65000)/26*2 -> 5000 | H19: =(65000)/26*3 -> 7500 | I19: =(65000)/26*2 -> 5000 | J19: =(65000)/26*2 -> 5000 | K19: =(65000)/26*2 -> 5000 | L19: =(65000)/26*2 -> 5000 | M19: =(65000)/26*2 -> 5000 | N19: =(65500)/26*3 -> 7557.6923 | O19: =(65000)/26*2 -> 5000 | P19: =SUM(D19:O19) -> 65057.692
P20: =SUM(D20:O20) -> 0
A21: Training Person - David Latman | D21: =20*9 -> 180 | E21: =20*9 -> 180 | F21: =20*9 -> 180 | G21: =20*9 -> 180 | H21: =20*9 -> 180 | I21: =20*9 -> 180 | J21: =20*9 -> 180 | K21: =20*9 -> 180 | ... O21: =20*9 -> 180 | P21: =SUM(D21:O21) -> 2160
A22: Backfill for Vacation | D22: 1440 | E22: 1440 | F22: 1440 | G22: 1440 | H22: 1440 | I22: 1440 | J22: 1440 | K22: 1440 | L22: 1440 | M22: 1440 | N22: 1440 | O22: 1440 | P22: =SUM(D22:O22) -> 17280
A23: Reserve Firefighter 8 hours shift @ $20 | B23: # of Days | C23: 4 | D23: =8*20*$C23*4 -> 2560 | E23: =8*20*$C23*4 -> 2560 | F23: =8*20*$C23*4 -> 2560 | G23: =8*20*$C23*4 -> 2560 | H23: =8*20*$C23*4 -> 2560 | I23: =8*20*$C23*4 -> 2560 | J23: =8*20*$C23*4 -> 2560 | K23: =8*20*$C23*4 -> 2560 | ... O23: =8*20*$C23*4 -> 2560 | P23: =SUM(D23:O23) -> 30720
P24: =SUM(D24:O24) -> 0
A25: Service Fee | D25: =2*20.5 -> 41 | E25: =2*20.5 -> 41 | F25: =2*20.5 -> 41 | G25: =2*20.5 -> 41 | H25: =3*20.5 -> 61.5 | I25: =2*20.5 -> 41 | J25: =2*20.5 -> 41 | K25: =2*20.5 -> 41 | L25: =2*20.5 -> 41 | M25: =2*20.5 -> 41 | N25: =3*20.5 -> 61.5 | O25: =2*20.5 -> 41 | P25: =SUM(D25:O25) -> 533
A26: Off District Backfill | F26: 15000 | P26: =SUM(D26:O26) -> 15000
P27: =SUM(D27:O27) -> 0
A28: FICA, Medicare | D28: =SUM(D6:D23)*0.0765 -> 3523.3605 | E28: =SUM(E6:E23)*0.0765 -> 3523.3605 | F28: =SUM(F6:F23)*0.0765 -> 3523.3605 | G28: =SUM(G6:G23)*0.0765 -> 3523.3605 | H28: =SUM(H6:H23)*0.0765 -> 4770.3105 | I28: =SUM(I6:I23)*0.0765 -> 3523.3605 | J28: =SUM(J6:J23)*0.0765 -> 3523.3605 | K28: =SUM(K6:K23)*0.0765 -> 3523.3605 | ... O28: =SUM(O6:O23)*0.0765 -> 3523.3605 | P28: =SUM(D28:O28) -> 44778.639
D30: =SUM(D6:D29) -> 49621.361 | E30: =SUM(E6:E29) -> 49621.361 | F30: =SUM(F6:F29) -> 64621.361 | G30: =SUM(G6:G29) -> 49621.361 | H30: =SUM(H6:H29) -> 67188.81 | I30: =SUM(I6:I29) -> 49621.361 | J30: =SUM(J6:J29) -> 49621.361 | K30: =SUM(K6:K29) -> 49621.361 | ... P30: =SUM(P6:P29) -> 645653.33

Sheet PSPRS
A1: Groom Creek Fire District
A2: Budget - Cash Basis
A3: 46203
A5: PSPRS | B5: Tier | C5: Rate | D5: Jul | E5: Aug | F5: Sept | G5: Oct | H5: Nov | I5: Dec | J5: Jan | K5: Feb | L5: Mar | M5: Apr | N5: May | O5: Jun | P5: Total
A7: Stewart Cox | B7: 3 | C7: 0.0889 | D7: =Payroll!D6*$C7 -> 347.599 | E7: =Payroll!E6*$C7 -> 347.599 | F7: =Payroll!F6*$C7 -> 347.599 | G7: =Payroll!G6*$C7 -> 347.599 | H7: =Payroll!H6*$C7 -> 521.3985 | I7: =Payroll!I6*$C7 -> 347.599 | J7: =Payroll!J6*$C7 -> 347.599 | K7: =Payroll!K6*$C7 -> 347.599 | ... O7: =Payroll!O6*$C7 -> 347.599 | P7: =SUM(D7:O7) -> 4518.787
A8: Stewart Cox | B8: 3 | C8: 0.0889 | D8: =Payroll!D7*$C8 -> 18.1356 | E8: =Payroll!E7*$C8 -> 18.1356 | F8: =Payroll!F7*$C8 -> 18.1356 | G8: =Payroll!G7*$C8 -> 18.1356 | H8: =Payroll!H7*$C8 -> 18.1356 | I8: =Payroll!I7*$C8 -> 18.1356 | J8: =Payroll!J7*$C8 -> 18.1356 | K8: =Payroll!K7*$C8 -> 18.1356 | ... O8: =Payroll!O7*$C8 -> 18.1356 | P8: =SUM(D8:O8) -> 217.6272
A9: Mathew Gordon | B9: 3 | C9: 0.0889 | D9: =Payroll!D8*$C9 -> 347.599 | E9: =Payroll!E8*$C9 -> 347.599 | F9: =Payroll!F8*$C9 -> 347.599 | G9: =Payroll!G8*$C9 -> 347.599 | H9: =Payroll!H8*$C9 -> 521.3985 | I9: =Payroll!I8*$C9 -> 347.599 | J9: =Payroll!J8*$C9 -> 347.599 | K9: =Payroll!K8*$C9 -> 347.599 | ... O9: =Payroll!O8*$C9 -> 347.599 | P9: =SUM(D9:O9) -> 4518.787
A10: Mathew Gordon - Holiday | B10: 3 | C10: 0.0889 | D10: =Payroll!D9*$C10 -> 18.1356 | E10: =Payroll!E9*$C10 -> 18.1356 | F10: =Payroll!F9*$C10 -> 18.1356 | G10: =Payroll!G9*$C10 -> 18.1356 | H10: =Payroll!H9*$C10 -> 18.1356 | I10: =Payroll!I9*$C10 -> 18.1356 | J10: =Payroll!J9*$C10 -> 18.1356 | K10: =Payroll!K9*$C10 -> 18.1356 | ... O10: =Payroll!O9*$C10 -> 18.1356 | P10: =SUM(D10:O10) -> 217.6272
A11: Robert Tillman | B11: 3 | C11: 0.0889 | D11: =Payroll!D10*$C11 -> 470.281 | E11: =Payroll!E10*$C11 -> 470.281 | F11: =Payroll!F10*$C11 -> 470.281 | G11: =Payroll!G10*$C11 -> 470.281 | H11: =Payroll!H10*$C11 -> 705.4215 | I11: =Payroll!I10*$C11 -> 470.281 | J11: =Payroll!J10*$C11 -> 470.281 | K11: =Payroll!K10*$C11 -> 470.281 | ... O11: =Payroll!O10*$C11 -> 470.281 | P11: =SUM(D11:O11) -> 6113.653
A12: Robert Tillman - Holiday | B12: 3 | C12: 0.0889 | D12: =Payroll!D11*$C12 -> 24.5364 | E12: =Payroll!E11*$C12 -> 24.5364 | F12: =Payroll!F11*$C12 -> 24.5364 | G12: =Payroll!G11*$C12 -> 24.5364 | H12: =Payroll!H11*$C12 -> 24.5364 | I12: =Payroll!I11*$C12 -> 24.5364 | J12: =Payroll!J11*$C12 -> 24.5364 | K12: =Payroll!K11*$C12 -> 24.5364 | ... O12: =Payroll!O11*$C12 -> 24.5364 | P12: =SUM(D12:O12) -> 294.4368
A13: Max Fitzmorize | B13: 3 | C13: 0.0889 | D13: =Payroll!D12*$C13 -> 470.281 | E13: =Payroll!E12*$C13 -> 470.281 | F13: =Payroll!F12*$C13 -> 470.281 | G13: =Payroll!G12*$C13 -> 470.281 | H13: =Payroll!H12*$C13 -> 705.4215 | I13: =Payroll!I12*$C13 -> 470.281 | J13: =Payroll!J12*$C13 -> 470.281 | K13: =Payroll!K12*$C13 -> 470.281 | ... O13: =Payroll!O12*$C13 -> 470.281 | P13: =SUM(D13:O13) -> 6113.653
A14: Max Fitzmorize- Holiday | B14: 3 | C14: 0.0889 | D14: =Payroll!D13*$C14 -> 24.5364 | E14: =Payroll!E13*$C14 -> 24.5364 | F14: =Payroll!F13*$C14 -> 24.5364 | G14: =Payroll!G13*$C14 -> 24.5364 | H14: =Payroll!H13*$C14 -> 24.5364 | I14: =Payroll!I13*$C14 -> 24.5364 | J14: =Payroll!J13*$C14 -> 24.5364 | K14: =Payroll!K13*$C14 -> 24.5364 | ... O14: =Payroll!O13*$C14 -> 24.5364 | P14: =SUM(D14:O14) -> 294.4368
A15: Russell Vaughn | B15: 3 | C15: 0.0889 | D15: =Payroll!D14*$C15 -> 347.599 | E15: =Payroll!E14*$C15 -> 347.599 | F15: =Payroll!F14*$C15 -> 347.599 | G15: =Payroll!G14*$C15 -> 347.599 | H15: =Payroll!H14*$C15 -> 521.3985 | I15: =Payroll!I14*$C15 -> 347.599 | J15: =Payroll!J14*$C15 -> 347.599 | K15: =Payroll!K14*$C15 -> 347.599 | ... O15: =Payroll!O14*$C15 -> 347.599 | P15: =SUM(D15:O15) -> 4518.787
A16: Russell Vaughn-Holiday | B16: 3 | C16: 0.0889 | D16: =Payroll!D15*$C16 -> 18.1356 | E16: =Payroll!E15*$C16 -> 18.1356 | F16: =Payroll!F15*$C16 -> 18.1356 | G16: =Payroll!G15*$C16 -> 18.1356 | H16: =Payroll!H15*$C16 -> 18.1356 | I16: =Payroll!I15*$C16 -> 18.1356 | J16: =Payroll!J15*$C16 -> 18.1356 | K16: =Payroll!K15*$C16 -> 18.1356 | ... O16: =Payroll!O15*$C16 -> 18.1356 | P16: =SUM(D16:O16) -> 217.6272
A17: Gabby Mendez | B17: 3 | C17: 0.0889 | D17: =Payroll!D16*$C17 -> 470.281 | E17: =Payroll!E16*$C17 -> 470.281 | F17: =Payroll!F16*$C17 -> 470.281 | G17: =Payroll!G16*$C17 -> 470.281 | H17: =Payroll!H16*$C17 -> 705.4215 | I17: =Payroll!I16*$C17 -> 470.281 | J17: =Payroll!J16*$C17 -> 470.281 | K17: =Payroll!K16*$C17 -> 470.281 | ... O17: =Payroll!O16*$C17 -> 470.281 | P17: =SUM(D17:O17) -> 6113.653
A18: Gabby Mendez-Holiday | B18: 3 | C18: 0.0889 | D18: =Payroll!D17*$C18 -> 24.5364 | E18: =Payroll!E17*$C18 -> 24.5364 | F18: =Payroll!F17*$C18 -> 24.5364 | G18: =Payroll!G17*$C18 -> 24.5364 | H18: =Payroll!H17*$C18 -> 24.5364 | I18: =Payroll!I17*$C18 -> 24.5364 | J18: =Payroll!J17*$C18 -> 24.5364 | K18: =Payroll!K17*$C18 -> 24.5364 | ... O18: =Payroll!O17*$C18 -> 24.5364 | P18: =SUM(D18:O18) -> 294.4368
A19: Chief Salary | B19: 1 | C19: PSPRS credits | D19: 0 | E19: 0 | F19: 0 | G19: 0 | H19: 0 | I19: 0 | J19: 0 | K19: 0 | L19: 0 | M19: 0 | N19: 0 | O19: 0 | P19: =SUM(D19:O19) -> 0
A20: Assistant Chief - Nate Hollowell | B20: 2 | C20: PSPRS credits | D20: 0 | E20: 0 | F20: 0 | G20: 0 | H20: 0 | I20: 0 | J20: 0 | K20: 0 | L20: 0 | M20: 0 | N20: 0 | O20: 0 | P20: 0
D21: =SUM(D6:D20) -> 2581.656 | E21: =SUM(E6:E20) -> 2581.656 | F21: =SUM(F6:F20) -> 2581.656 | G21: =SUM(G6:G20) -> 2581.656 | H21: =SUM(H6:H20) -> 3808.476 | I21: =SUM(I6:I20) -> 2581.656 | J21: =SUM(J6:J20) -> 2581.656 | K21: =SUM(K6:K20) -> 2581.656 | ... P21: =SUM(P6:P20) -> 33433.512

Sheet Comm
A1: Groom Creek Fire District
A2: Budget - Cash Basis
A3: 46203 | P3: =+N3-N11 -> 0
P4: 45838
A5: Communications | B5: Jul | C5: Aug | D5: Sept | E5: Oct | F5: Nov | G5: Dec | H5: Jan | I5: Feb | J5: Mar | K5: Apr | L5: May | M5: Jun | N5: Total | P5: Budget
A7: Verizon Ipad | B7: 115 | C7: 115 | D7: 115 | E7: 115 | F7: 115 | G7: 115 | H7: 115 | I7: 115 | J7: 115 | K7: 115 | L7: 115 | M7: 115 | N7: =SUM(B7:M7) -> 1380 | P7: 1380
A8: Regional Dispatch Expense | B8: 750 | C8: 750 | D8: 750 | E8: 750 | F8: 750 | G8: 750 | H8: 750 | I8: 750 | J8: 750 | K8: 750 | L8: 750 | M8: 750 | N8: =SUM(B8:M8) -> 9000 | P8: 9000
A9: Active 911 Inc. | H9: 285 | N9: =SUM(B9:M9) -> 285 | P9: 285
N10: =SUM(B10:M10) -> 0
N11: =SUM(B11:M11) -> 0
N12: =SUM(B12:M12) -> 0
N13: =SUM(B13:M13) -> 0
N14: =SUM(B14:M14) -> 0
N15: =SUM(B15:M15) -> 0
N16: =SUM(B16:M16) -> 0
N17: =SUM(B17:M17) -> 0
N18: =SUM(B18:M18) -> 0
N19: =SUM(B19:M19) -> 0
N20: =SUM(B20:M20) -> 0
N21: =SUM(B21:M21) -> 0
B23: =SUM(B6:B22) -> 865 | C23: =SUM(C6:C22) -> 865 | D23: =SUM(D6:D22) -> 865 | E23: =SUM(E6:E22) -> 865 | F23: =SUM(F6:F22) -> 865 | G23: =SUM(G6:G22) -> 865 | H23: =SUM(H6:H22) -> 1150 | I23: =SUM(I6:I22) -> 865 | ... N23: =SUM(N6:N22) -> 10665 | P23: =SUM(P6:P22) -> 10665 | Q23: =(+N23-P23)/P23 -> 0
A25: Costs passed on to us and we can't control
A26: Thru City of Prescott
A27: Systems updates
A28: Training
A29: Verizon changed to new bill amount

Sheet Training
A1: Groom Creek Fire District
A2: Budget - Cash Basis
A3: 46203 | P3: =+N3-N11 -> -1350
P4: 45838
A5: Training | B5: Jul | C5: Aug | D5: Sept | E5: Oct | F5: Nov | G5: Dec | H5: Jan | I5: Feb | J5: Mar | K5: Apr | L5: May | M5: Jun | N5: Total | P5: Budget
A7: Paramedic Training Backfill | C7: 800 | D7: 800 | E7: 800 | F7: 800 | G7: 800 | H7: 800 | I7: 800 | J7: 800 | K7: 800 | L7: 800 | N7: =SUM(B7:M7) -> 8000
A8: Quarterly training backfill | N8: =SUM(B8:M8) -> 0 | P8: 0
A9: AFDA Training- Board Members (3 person) | H9: =450*3 -> 1350 | N9: =SUM(B9:M9) -> 1350 | P9: 1350
A10: In House Training - backfill | N10: =SUM(B10:M10) -> 0
A11: Wildland academy | J11: 1350 | N11: =SUM(B11:M11) -> 1350 | P11: 1350
A12: software membership | F12: 1000 | N12: =SUM(B12:M12) -> 1000 | P12: 825
A13: Robert Tillman Training for Paramedic | N13: =SUM(B13:M13) -> 0 | P13: 0
A14: Training Misc | B14: 250 | C14: 250 | D14: 250 | E14: 250 | F14: 250 | G14: 250 | H14: 250 | I14: 250 | J14: 250 | K14: 250 | L14: 250 | M14: 250 | N14: =SUM(B14:M14) -> 3000 | P14: 3000
N15: =SUM(B15:M15) -> 0
N16: =SUM(B16:M16) -> 0
N17: =SUM(B17:M17) -> 0
N18: =SUM(B18:M18) -> 0
N19: =SUM(B19:M19) -> 0
N20: =SUM(B20:M20) -> 0
N21: =SUM(B21:M21) -> 0
B23: =SUM(B6:B22) -> 250 | C23: =SUM(C6:C22) -> 1050 | D23: =SUM(D6:D22) -> 1050 | E23: =SUM(E6:E22) -> 1050 | F23: =SUM(F6:F22) -> 2050 | G23: =SUM(G6:G22) -> 1050 | H23: =SUM(H6:H22) -> 2400 | I23: =SUM(I6:I22) -> 1050 | ... N23: =SUM(N6:N22) -> 14700 | P23: =SUM(P6:P22) -> 6525
A25: No cost for training only the backfill
C33: =SUM(C6:C32) -> 2100

Sheet Dues
A1: Groom Creek Fire District
A2: Budget - Cash Basis
A3: 46203
P4: 45838
A5: Dues and Subscriptions | B5: Jul | C5: Aug | D5: Sept | E5: Oct | F5: Nov | G5: Dec | H5: Jan | I5: Feb | J5: Mar | K5: Apr | L5: May | M5: Jun | N5: Total | P5: Budget
A7: AFDA Membership | L7: 575 | N7: =SUM(B7:M7) -> 575 | P7: 575
A8: COSTCO | L8: 130 | N8: =SUM(B8:M8) -> 130 | P8: 130
A9: Quickbooks | N9: =SUM(B9:M9) -> 0 | P9: 0
A10: AZ Fire Chief Assoc | N10: =SUM(B10:M10) -> 0 | P10: 0
A11: CLIEA - Field Urinalisis/sobriety | K11: 180 | N11: =SUM(B11:M11) -> 180 | P11: 180
A12: NAEMS Dues - Northern AZ EMS Grants | I12: 50 | N12: =SUM(B12:M12) -> 50 | P12: 50
A13: NFPA -National Fire Protection Assoc. | E13: 175 | N13: =SUM(B13:M13) -> 175 | P13: 175
A14: Microsoft 365 | H14: 150 | N14: =SUM(B14:M14) -> 150 | P14: 150
N15: =SUM(B15:M15) -> 0
N16: =SUM(B16:M16) -> 0
N17: =SUM(B17:M17) -> 0
N18: =SUM(B18:M18) -> 0
N19: =SUM(B19:M19) -> 0
N20: =SUM(B20:M20) -> 0
N21: =SUM(B21:M21) -> 0
B23: =SUM(B6:B22) -> 0 | C23: =SUM(C6:C22) -> 0 | D23: =SUM(D6:D22) -> 0 | E23: =SUM(E6:E22) -> 175 | F23: =SUM(F6:F22) -> 0 | G23: =SUM(G6:G22) -> 0 | H23: =SUM(H6:H22) -> 150 | I23: =SUM(I6:I22) -> 50 | ... N23: =SUM(N6:N22) -> 1260 | P23: =SUM(P6:P22) -> 1260
C33: =SUM(C6:C32) -> 0

Sheet Utilities
A1: Groom Creek Fire District
A2: Budget - Cash Basis
A3: 46203 | P3: =+N3-N11 -> 0
P4: 45838
A5: Utilities | B5: Jul | C5: Aug | D5: Sept | E5: Oct | F5: Nov | G5: Dec | H5: Jan | I5: Feb | J5: Mar | K5: Apr | L5: May | M5: Jun | N5: Total | P5: Budget
A7: Electric | B7: 400 | C7: 400 | D7: 400 | E7: 400 | F7: 400 | G7: 400 | H7: 400 | I7: 400 | J7: 400 | K7: 400 | L7: 400 | M7: 400 | N7: =SUM(B7:M7) -> 4800 | P7: 4300
A8: Water | B8: 254.66667 | C8: 254.66667 | D8: 254.66667 | E8: 254.66667 | F8: 254.66667 | G8: 254.66667 | H8: 254.66667 | I8: 254.66667 | J8: 254.66667 | K8: 254.66667 | L8: 254.66667 | M8: 254.66667 | N8: =SUM(B8:M8) -> 3056 | P8: 3056
A9: Trash | B9: 45 | C9: 45 | D9: 45 | E9: 45 | F9: 45 | G9: 45 | H9: 45 | I9: 45 | J9: 45 | K9: 45 | L9: 45 | M9: 45 | N9: =SUM(B9:M9) -> 540 | P9: 540
A10: Internet/Phone | B10: 250 | C10: 250 | D10: 250 | E10: 250 | F10: 250 | G10: 250 | H10: 250 | I10: 250 | J10: 250 | K10: 250 | L10: 250 | M10: 250 | N10: =SUM(B10:M10) -> 3000 | P10: 3000
N11: =SUM(B11:M11) -> 0
N12: =SUM(B12:M12) -> 0
N13: =SUM(B13:M13) -> 0
N14: =SUM(B14:M14) -> 0
N15: =SUM(B15:M15) -> 0
N16: =SUM(B16:M16) -> 0
N17: =SUM(B17:M17) -> 0
N18: =SUM(B18:M18) -> 0
N19: =SUM(B19:M19) -> 0
N20: =SUM(B20:M20) -> 0
N21: =SUM(B21:M21) -> 0
B23: =SUM(B6:B22) -> 949.66667 | C23: =SUM(C6:C22) -> 949.66667 | D23: =SUM(D6:D22) -> 949.66667 | E23: =SUM(E6:E22) -> 949.66667 | F23: =SUM(F6:F22) -> 949.66667 | G23: =SUM(G6:G22) -> 949.66667 | H23: =SUM(H6:H22) -> 949.66667 | I23: =SUM(I6:I22) -> 949.66667 | ... N23: =SUM(N6:N22) -> 11396 | P23: =SUM(P6:P22) -> 10896

Sheet Propane
A1: Groom Creek Fire District
A2: Budget - Cash Basis
A3: 46203 | P3: =+N3-N11 -> 0
P4: 45838
A5: Propane | B5: Jul | C5: Aug | D5: Sept | E5: Oct | F5: Nov | G5: Dec | H5: Jan | I5: Feb | J5: Mar | K5: Apr | L5: May | M5: Jun | N5: Total | P5: Budget
B7: 500 | C7: 0 | D7: 0 | E7: 0 | F7: 500 | G7: 800 | H7: 1000 | I7: 1500 | J7: 500 | K7: 200 | N7: =SUM(B7:M7) -> 5000 | P7: 3515
N8: =SUM(B8:M8) -> 0
N9: =SUM(B9:M9) -> 0
N10: =SUM(B10:M10) -> 0
N11: =SUM(B11:M11) -> 0
N12: =SUM(B12:M12) -> 0
N13: =SUM(B13:M13) -> 0
N14: =SUM(B14:M14) -> 0
N15: =SUM(B15:M15) -> 0
N16: =SUM(B16:M16) -> 0
N17: =SUM(B17:M17) -> 0
N18: =SUM(B18:M18) -> 0
N19: =SUM(B19:M19) -> 0
... N21: =SUM(B21:M21) -> 0
B23: =SUM(B6:B22) -> 500 | C23: =SUM(C6:C22) -> 0 | D23: =SUM(D6:D22) -> 0 | E23: =SUM(E6:E22) -> 0 | F23: =SUM(F6:F22) -> 500 | G23: =SUM(G6:G22) -> 800 | H23: =SUM(H6:H22) -> 1000 | I23: =SUM(I6:I22) -> 1500 | ... N23: =SUM(N6:N22) -> 5000 | P23: =SUM(P6:P22) -> 3515

Sheet Est of Cap. Reserve not updated
A1: 46203
A2: Capital Reserve Estimate
B4: Estimate | D4: Actual/Est before financials | F4: Difference
F5: to May Est
A7: Cap Res. Balance sheet May 31,2021 | B7: 7737.17 | D7: Cap Res. Balance sheet June 30,2021 | E7: =7737.17+14365.7+440+218+700+662+19408.03-0.8 -> 43530.1 | F7: =+E7-B7 -> 35792.93 | H7: Includes beg. Bal plus xfers made by chief for vaccine and donations plus 19,408.03 end of year xfer made by chief
A9: Payroll Account Balance May 31,2021 | B9: 21068.08 | D9: Payroll Account Balance June 30,2021 | E9: 33515.24 | F9: =+E9-B9 -> 12447.16 | H9: =26333.21+6000 -> 32333.21 | I9: Payroll of 26333.21+6000.00 imprest balance; small difference of 1,182.03 - Jackie confirmed 33,515.24
A11: General Fund Balance May,31,2021 | B11: 69968.58 | D11: General Fund Balance June 30,2021 | E11: 9520.86 | F11: =+E11-B11 -> -60447.72 | H11: 44378 | I11: Confirmed with County by chief
A12: Outstanding Check Estimate | D12: (1) | E12: =-K25 -> -17483.36 | H12: Estimate of Outstanding checks not cleared by 6/30/2021
A15: Subtotal Balance Sheet | B15: =SUM(B6:B14) -> 98773.83 | D15: Subtotal Balance Sheet (2) | E15: =SUM(E6:E14) -> 69082.84 | F15: =SUM(F6:F14) -> -12207.63
A19: Est of June Revenue | B19: 8000 | D19: June Revenue | E19: =238.85+47.19+17208.7 -> 17494.74 | F19: =+E19-B19 -> 9494.74 | H19: 14,365.70 off district fire vaccination received but not paid until 7/1/2021 - confirmed with Jackie
A21: Est of June Expenses | B21: 45000 | D21: June Expense | E21: 51713.69 | F21: =+E21-B21 -> 6713.69 | H21: Includes expense for off district fire vaccination xfer to payroll not paid until July 1 include in budget for 2021
A23: Net Loss June | B23: =+B21-B19 -> 37000 | E23: =+E21-E19 -> 34218.95 | F23: =+B23-E23 -> 2781.05 | H23: O/S checks wrote on 28th of June | K23: =42816.57-26333.21 -> 16483.36 | L23: excludes payroll transfer which is paid 7/1/2021
H24: O/S checks Prior months | K24: 1000
A25: Estimated Capital Reserve 6/30/2021 | B25: =+B15+B19-B21 -> 61773.83 | D25: (2) | K25: =SUM(K23:K24) -> 17483.36 | L25: (1)
F27: Diff from June
A28: Actual 6/30/2021 | F28: Est to Act June
A30: Cap Res. Balance sheet June 30,2021 | B30: 24125.13
A32: Payroll Account Balance June 30,2021 | B32: 34772.13
A34: General Fund Balance June 30,2021 | B34: 11888.51
B35: =SUM(B30:B34) -> 70785.77 | F35: =+B35-E15 -> 1702.93
